BEGIN:VCALENDAR
VERSION:2.0
PRODID:-//Lifelong Learning Institute- Manassas - ECPv6.15.20//NONSGML v1.0//EN
CALSCALE:GREGORIAN
METHOD:PUBLISH
X-WR-CALNAME:Lifelong Learning Institute- Manassas
X-ORIGINAL-URL:https://lli-manassas.org
X-WR-CALDESC:Events for Lifelong Learning Institute- Manassas
REFRESH-INTERVAL;VALUE=DURATION:PT1H
X-Robots-Tag:noindex
X-PUBLISHED-TTL:PT1H
BEGIN:VTIMEZONE
TZID:America/New_York
BEGIN:DAYLIGHT
TZOFFSETFROM:-0500
TZOFFSETTO:-0400
TZNAME:EDT
DTSTART:20240310T070000
END:DAYLIGHT
BEGIN:STANDARD
TZOFFSETFROM:-0400
TZOFFSETTO:-0500
TZNAME:EST
DTSTART:20241103T060000
END:STANDARD
BEGIN:DAYLIGHT
TZOFFSETFROM:-0500
TZOFFSETTO:-0400
TZNAME:EDT
DTSTART:20250309T070000
END:DAYLIGHT
BEGIN:STANDARD
TZOFFSETFROM:-0400
TZOFFSETTO:-0500
TZNAME:EST
DTSTART:20251102T060000
END:STANDARD
BEGIN:DAYLIGHT
TZOFFSETFROM:-0500
TZOFFSETTO:-0400
TZNAME:EDT
DTSTART:20260308T070000
END:DAYLIGHT
BEGIN:STANDARD
TZOFFSETFROM:-0400
TZOFFSETTO:-0500
TZNAME:EST
DTSTART:20261101T060000
END:STANDARD
END:VTIMEZONE
BEGIN:VEVENT
DTSTART;TZID=America/New_York:20251208T103000
DTEND;TZID=America/New_York:20251208T120000
DTSTAMP:20260424T100141
CREATED:20250717T173049Z
LAST-MODIFIED:20250807T133922Z
UID:10002715-1765189800-1765195200@lli-manassas.org
SUMMARY:F25-1208A\, Current Topics in Biotechnology from NVCC
DESCRIPTION:This class will address current topics in biotechnology from the perspective of two NVCC professors who are preparing NVCC students for careers in this increasingly important field. \nPresenter: Professors Xin Zhou and Vinjaya Gandreti\nDr. Xin Zhou is a biologist with over 20 years of research and teaching experience. He holds a PhD degree in Biology from Texas A&M University and a BS in Biology from the University of Science & Technology of China.   Dr. Zhou’s professional background spans several prestigious institutions\, including Texas A&M University\, Cornell University\, Georgetown University\, and George Washington University. He has extensive research expertise in plant molecular biology\, cancer biology\, and wound healing.  Dr. Zhou is currently the Program Head of the Biotechnology Program and a full professor at Northern Virginia Community College Manassas Campus\, where he has taught since 2016.  \nVijaya Gandreti currently serves as an Associate Professor of Biology at Northern Virginia Community College at Manassas campus. Prior to this\, she also gained professional experience in biotechnology and pharmaceutical companies. She has a master’s degree in bioinformatics from George Mason University and a master’s degree in microbiology from Osmania University in India. \nLLI Coordinator: Mike Ahern
URL:https://lli-manassas.org/event/f25-1208a-current-topics-in-biotechnology-from-nvcc/
LOCATION:Bethel Lutheran Church 8712 Plantation Lane Manassas 20110
END:VEVENT
END:VCALENDAR