BEGIN:VCALENDAR
VERSION:2.0
PRODID:-//Lifelong Learning Institute- Manassas - ECPv6.15.20//NONSGML v1.0//EN
CALSCALE:GREGORIAN
METHOD:PUBLISH
X-ORIGINAL-URL:https://lli-manassas.org
X-WR-CALDESC:Events for Lifelong Learning Institute- Manassas
REFRESH-INTERVAL;VALUE=DURATION:PT1H
X-Robots-Tag:noindex
X-PUBLISHED-TTL:PT1H
BEGIN:VTIMEZONE
TZID:America/New_York
BEGIN:DAYLIGHT
TZOFFSETFROM:-0500
TZOFFSETTO:-0400
TZNAME:EDT
DTSTART:20250309T070000
END:DAYLIGHT
BEGIN:STANDARD
TZOFFSETFROM:-0400
TZOFFSETTO:-0500
TZNAME:EST
DTSTART:20251102T060000
END:STANDARD
BEGIN:DAYLIGHT
TZOFFSETFROM:-0500
TZOFFSETTO:-0400
TZNAME:EDT
DTSTART:20260308T070000
END:DAYLIGHT
BEGIN:STANDARD
TZOFFSETFROM:-0400
TZOFFSETTO:-0500
TZNAME:EST
DTSTART:20261101T060000
END:STANDARD
BEGIN:DAYLIGHT
TZOFFSETFROM:-0500
TZOFFSETTO:-0400
TZNAME:EDT
DTSTART:20270314T070000
END:DAYLIGHT
BEGIN:STANDARD
TZOFFSETFROM:-0400
TZOFFSETTO:-0500
TZNAME:EST
DTSTART:20271107T060000
END:STANDARD
END:VTIMEZONE
BEGIN:VEVENT
DTSTART;TZID=America/New_York:20260714T133000
DTEND;TZID=America/New_York:20260714T153000
DTSTAMP:20260424T064649
CREATED:20251214T152306Z
LAST-MODIFIED:20251215T012233Z
UID:10002974-1784035800-1784043000@lli-manassas.org
SUMMARY:S26-MHJNG\, Mah Jongg Club
DESCRIPTION:Every Tuesday afternoon\, we meet for fun\, laughter\, and a good time. All levels of experience are welcome\, from beginners through master players. \nPresenter: n/a\nn/a \nLLI Coordinator: Kathy Fowler
URL:https://lli-manassas.org/event/s26-mhjng-mah-jongg-club/2026-07-14/
LOCATION:Juke Box Diner\, 8637 Sudley Rd.\, Manassas
END:VEVENT
BEGIN:VEVENT
DTSTART;TZID=America/New_York:20260717T133000
DTEND;TZID=America/New_York:20260717T153000
DTSTAMP:20260424T064649
CREATED:20251214T152307Z
LAST-MODIFIED:20251215T012406Z
UID:10003008-1784295000-1784302200@lli-manassas.org
SUMMARY:S26-GAMES\, Game Day Club
DESCRIPTION:Description: If you like to play games\, please join us for a variety of card and board games every Friday afternoon for two hours of fun\, a monthly birthday party\, laughter and a good time. All levels of experience are welcome.\nFor more information\, contact LLI Coordinators: Kathy Hernandez or Julia Martin \nPresenter: n/a\nn/a \nLLI Coordinator: Kathy Hernandez
URL:https://lli-manassas.org/event/s26-games-game-day-club/2026-07-17/
LOCATION:Bethel Lutheran Church\, 8712 Plantation Ln.\, Manassas 20110
END:VEVENT
BEGIN:VEVENT
DTSTART;TZID=America/New_York:20260721T133000
DTEND;TZID=America/New_York:20260721T153000
DTSTAMP:20260424T064649
CREATED:20251214T152306Z
LAST-MODIFIED:20251215T012233Z
UID:10002975-1784640600-1784647800@lli-manassas.org
SUMMARY:S26-MHJNG\, Mah Jongg Club
DESCRIPTION:Every Tuesday afternoon\, we meet for fun\, laughter\, and a good time. All levels of experience are welcome\, from beginners through master players. \nPresenter: n/a\nn/a \nLLI Coordinator: Kathy Fowler
URL:https://lli-manassas.org/event/s26-mhjng-mah-jongg-club/2026-07-21/
LOCATION:Juke Box Diner\, 8637 Sudley Rd.\, Manassas
END:VEVENT
BEGIN:VEVENT
DTSTART;TZID=America/New_York:20260724T133000
DTEND;TZID=America/New_York:20260724T153000
DTSTAMP:20260424T064649
CREATED:20251214T152307Z
LAST-MODIFIED:20251215T012406Z
UID:10003009-1784899800-1784907000@lli-manassas.org
SUMMARY:S26-GAMES\, Game Day Club
DESCRIPTION:Description: If you like to play games\, please join us for a variety of card and board games every Friday afternoon for two hours of fun\, a monthly birthday party\, laughter and a good time. All levels of experience are welcome.\nFor more information\, contact LLI Coordinators: Kathy Hernandez or Julia Martin \nPresenter: n/a\nn/a \nLLI Coordinator: Kathy Hernandez
URL:https://lli-manassas.org/event/s26-games-game-day-club/2026-07-24/
LOCATION:Bethel Lutheran Church\, 8712 Plantation Ln.\, Manassas 20110
END:VEVENT
BEGIN:VEVENT
DTSTART;TZID=America/New_York:20260728T133000
DTEND;TZID=America/New_York:20260728T153000
DTSTAMP:20260424T064649
CREATED:20251214T152306Z
LAST-MODIFIED:20251215T012233Z
UID:10002976-1785245400-1785252600@lli-manassas.org
SUMMARY:S26-MHJNG\, Mah Jongg Club
DESCRIPTION:Every Tuesday afternoon\, we meet for fun\, laughter\, and a good time. All levels of experience are welcome\, from beginners through master players. \nPresenter: n/a\nn/a \nLLI Coordinator: Kathy Fowler
URL:https://lli-manassas.org/event/s26-mhjng-mah-jongg-club/2026-07-28/
LOCATION:Juke Box Diner\, 8637 Sudley Rd.\, Manassas
END:VEVENT
BEGIN:VEVENT
DTSTART;TZID=America/New_York:20260731T133000
DTEND;TZID=America/New_York:20260731T153000
DTSTAMP:20260424T064649
CREATED:20251214T152307Z
LAST-MODIFIED:20251215T012406Z
UID:10003010-1785504600-1785511800@lli-manassas.org
SUMMARY:S26-GAMES\, Game Day Club
DESCRIPTION:Description: If you like to play games\, please join us for a variety of card and board games every Friday afternoon for two hours of fun\, a monthly birthday party\, laughter and a good time. All levels of experience are welcome.\nFor more information\, contact LLI Coordinators: Kathy Hernandez or Julia Martin \nPresenter: n/a\nn/a \nLLI Coordinator: Kathy Hernandez
URL:https://lli-manassas.org/event/s26-games-game-day-club/2026-07-31/
LOCATION:Bethel Lutheran Church\, 8712 Plantation Ln.\, Manassas 20110
END:VEVENT
BEGIN:VEVENT
DTSTART;TZID=America/New_York:20260804T133000
DTEND;TZID=America/New_York:20260804T153000
DTSTAMP:20260424T064649
CREATED:20251214T152306Z
LAST-MODIFIED:20251215T012233Z
UID:10002977-1785850200-1785857400@lli-manassas.org
SUMMARY:S26-MHJNG\, Mah Jongg Club
DESCRIPTION:Every Tuesday afternoon\, we meet for fun\, laughter\, and a good time. All levels of experience are welcome\, from beginners through master players. \nPresenter: n/a\nn/a \nLLI Coordinator: Kathy Fowler
URL:https://lli-manassas.org/event/s26-mhjng-mah-jongg-club/2026-08-04/
LOCATION:Juke Box Diner\, 8637 Sudley Rd.\, Manassas
END:VEVENT
BEGIN:VEVENT
DTSTART;TZID=America/New_York:20260807T133000
DTEND;TZID=America/New_York:20260807T153000
DTSTAMP:20260424T064649
CREATED:20251214T152307Z
LAST-MODIFIED:20251215T012406Z
UID:10003011-1786109400-1786116600@lli-manassas.org
SUMMARY:S26-GAMES\, Game Day Club
DESCRIPTION:Description: If you like to play games\, please join us for a variety of card and board games every Friday afternoon for two hours of fun\, a monthly birthday party\, laughter and a good time. All levels of experience are welcome.\nFor more information\, contact LLI Coordinators: Kathy Hernandez or Julia Martin \nPresenter: n/a\nn/a \nLLI Coordinator: Kathy Hernandez
URL:https://lli-manassas.org/event/s26-games-game-day-club/2026-08-07/
LOCATION:Bethel Lutheran Church\, 8712 Plantation Ln.\, Manassas 20110
END:VEVENT
BEGIN:VEVENT
DTSTART;TZID=America/New_York:20260811T133000
DTEND;TZID=America/New_York:20260811T153000
DTSTAMP:20260424T064649
CREATED:20251214T152306Z
LAST-MODIFIED:20251215T012233Z
UID:10002978-1786455000-1786462200@lli-manassas.org
SUMMARY:S26-MHJNG\, Mah Jongg Club
DESCRIPTION:Every Tuesday afternoon\, we meet for fun\, laughter\, and a good time. All levels of experience are welcome\, from beginners through master players. \nPresenter: n/a\nn/a \nLLI Coordinator: Kathy Fowler
URL:https://lli-manassas.org/event/s26-mhjng-mah-jongg-club/2026-08-11/
LOCATION:Juke Box Diner\, 8637 Sudley Rd.\, Manassas
END:VEVENT
BEGIN:VEVENT
DTSTART;TZID=America/New_York:20260814T133000
DTEND;TZID=America/New_York:20260814T153000
DTSTAMP:20260424T064649
CREATED:20251214T152307Z
LAST-MODIFIED:20251215T012406Z
UID:10003012-1786714200-1786721400@lli-manassas.org
SUMMARY:S26-GAMES\, Game Day Club
DESCRIPTION:Description: If you like to play games\, please join us for a variety of card and board games every Friday afternoon for two hours of fun\, a monthly birthday party\, laughter and a good time. All levels of experience are welcome.\nFor more information\, contact LLI Coordinators: Kathy Hernandez or Julia Martin \nPresenter: n/a\nn/a \nLLI Coordinator: Kathy Hernandez
URL:https://lli-manassas.org/event/s26-games-game-day-club/2026-08-14/
LOCATION:Bethel Lutheran Church\, 8712 Plantation Ln.\, Manassas 20110
END:VEVENT
BEGIN:VEVENT
DTSTART;TZID=America/New_York:20260818T133000
DTEND;TZID=America/New_York:20260818T153000
DTSTAMP:20260424T064649
CREATED:20251214T152306Z
LAST-MODIFIED:20251215T012233Z
UID:10002979-1787059800-1787067000@lli-manassas.org
SUMMARY:S26-MHJNG\, Mah Jongg Club
DESCRIPTION:Every Tuesday afternoon\, we meet for fun\, laughter\, and a good time. All levels of experience are welcome\, from beginners through master players. \nPresenter: n/a\nn/a \nLLI Coordinator: Kathy Fowler
URL:https://lli-manassas.org/event/s26-mhjng-mah-jongg-club/2026-08-18/
LOCATION:Juke Box Diner\, 8637 Sudley Rd.\, Manassas
END:VEVENT
BEGIN:VEVENT
DTSTART;TZID=America/New_York:20260821T133000
DTEND;TZID=America/New_York:20260821T153000
DTSTAMP:20260424T064649
CREATED:20251214T152307Z
LAST-MODIFIED:20251215T012406Z
UID:10003013-1787319000-1787326200@lli-manassas.org
SUMMARY:S26-GAMES\, Game Day Club
DESCRIPTION:Description: If you like to play games\, please join us for a variety of card and board games every Friday afternoon for two hours of fun\, a monthly birthday party\, laughter and a good time. All levels of experience are welcome.\nFor more information\, contact LLI Coordinators: Kathy Hernandez or Julia Martin \nPresenter: n/a\nn/a \nLLI Coordinator: Kathy Hernandez
URL:https://lli-manassas.org/event/s26-games-game-day-club/2026-08-21/
LOCATION:Bethel Lutheran Church\, 8712 Plantation Ln.\, Manassas 20110
END:VEVENT
BEGIN:VEVENT
DTSTART;TZID=America/New_York:20260825T133000
DTEND;TZID=America/New_York:20260825T153000
DTSTAMP:20260424T064649
CREATED:20251214T152306Z
LAST-MODIFIED:20251215T012233Z
UID:10002980-1787664600-1787671800@lli-manassas.org
SUMMARY:S26-MHJNG\, Mah Jongg Club
DESCRIPTION:Every Tuesday afternoon\, we meet for fun\, laughter\, and a good time. All levels of experience are welcome\, from beginners through master players. \nPresenter: n/a\nn/a \nLLI Coordinator: Kathy Fowler
URL:https://lli-manassas.org/event/s26-mhjng-mah-jongg-club/2026-08-25/
LOCATION:Juke Box Diner\, 8637 Sudley Rd.\, Manassas
END:VEVENT
BEGIN:VEVENT
DTSTART;TZID=America/New_York:20260828T133000
DTEND;TZID=America/New_York:20260828T153000
DTSTAMP:20260424T064649
CREATED:20251214T152307Z
LAST-MODIFIED:20251215T012406Z
UID:10003014-1787923800-1787931000@lli-manassas.org
SUMMARY:S26-GAMES\, Game Day Club
DESCRIPTION:Description: If you like to play games\, please join us for a variety of card and board games every Friday afternoon for two hours of fun\, a monthly birthday party\, laughter and a good time. All levels of experience are welcome.\nFor more information\, contact LLI Coordinators: Kathy Hernandez or Julia Martin \nPresenter: n/a\nn/a \nLLI Coordinator: Kathy Hernandez
URL:https://lli-manassas.org/event/s26-games-game-day-club/2026-08-28/
LOCATION:Bethel Lutheran Church\, 8712 Plantation Ln.\, Manassas 20110
END:VEVENT
BEGIN:VEVENT
DTSTART;TZID=America/New_York:20260901T133000
DTEND;TZID=America/New_York:20260901T153000
DTSTAMP:20260424T064649
CREATED:20251214T152306Z
LAST-MODIFIED:20251215T012233Z
UID:10002981-1788269400-1788276600@lli-manassas.org
SUMMARY:S26-MHJNG\, Mah Jongg Club
DESCRIPTION:Every Tuesday afternoon\, we meet for fun\, laughter\, and a good time. All levels of experience are welcome\, from beginners through master players. \nPresenter: n/a\nn/a \nLLI Coordinator: Kathy Fowler
URL:https://lli-manassas.org/event/s26-mhjng-mah-jongg-club/2026-09-01/
LOCATION:Juke Box Diner\, 8637 Sudley Rd.\, Manassas
END:VEVENT
BEGIN:VEVENT
DTSTART;TZID=America/New_York:20260904T133000
DTEND;TZID=America/New_York:20260904T153000
DTSTAMP:20260424T064649
CREATED:20251214T152307Z
LAST-MODIFIED:20251215T012406Z
UID:10003015-1788528600-1788535800@lli-manassas.org
SUMMARY:S26-GAMES\, Game Day Club
DESCRIPTION:Description: If you like to play games\, please join us for a variety of card and board games every Friday afternoon for two hours of fun\, a monthly birthday party\, laughter and a good time. All levels of experience are welcome.\nFor more information\, contact LLI Coordinators: Kathy Hernandez or Julia Martin \nPresenter: n/a\nn/a \nLLI Coordinator: Kathy Hernandez
URL:https://lli-manassas.org/event/s26-games-game-day-club/2026-09-04/
LOCATION:Bethel Lutheran Church\, 8712 Plantation Ln.\, Manassas 20110
END:VEVENT
BEGIN:VEVENT
DTSTART;TZID=America/New_York:20260908T133000
DTEND;TZID=America/New_York:20260908T153000
DTSTAMP:20260424T064649
CREATED:20251214T152306Z
LAST-MODIFIED:20251215T012233Z
UID:10002982-1788874200-1788881400@lli-manassas.org
SUMMARY:S26-MHJNG\, Mah Jongg Club
DESCRIPTION:Every Tuesday afternoon\, we meet for fun\, laughter\, and a good time. All levels of experience are welcome\, from beginners through master players. \nPresenter: n/a\nn/a \nLLI Coordinator: Kathy Fowler
URL:https://lli-manassas.org/event/s26-mhjng-mah-jongg-club/2026-09-08/
LOCATION:Juke Box Diner\, 8637 Sudley Rd.\, Manassas
END:VEVENT
BEGIN:VEVENT
DTSTART;TZID=America/New_York:20260911T133000
DTEND;TZID=America/New_York:20260911T153000
DTSTAMP:20260424T064649
CREATED:20251214T152307Z
LAST-MODIFIED:20251215T012406Z
UID:10003016-1789133400-1789140600@lli-manassas.org
SUMMARY:S26-GAMES\, Game Day Club
DESCRIPTION:Description: If you like to play games\, please join us for a variety of card and board games every Friday afternoon for two hours of fun\, a monthly birthday party\, laughter and a good time. All levels of experience are welcome.\nFor more information\, contact LLI Coordinators: Kathy Hernandez or Julia Martin \nPresenter: n/a\nn/a \nLLI Coordinator: Kathy Hernandez
URL:https://lli-manassas.org/event/s26-games-game-day-club/2026-09-11/
LOCATION:Bethel Lutheran Church\, 8712 Plantation Ln.\, Manassas 20110
END:VEVENT
BEGIN:VEVENT
DTSTART;VALUE=DATE:20260914
DTEND;VALUE=DATE:20260915
DTSTAMP:20260424T064649
CREATED:20260211T000438Z
LAST-MODIFIED:20260211T000438Z
UID:10003133-1789344000-1789430399@lli-manassas.org
SUMMARY:Fall 26 Class Registration Opens
DESCRIPTION:
URL:https://lli-manassas.org/event/fall-26-class-registration-opens/
END:VEVENT
BEGIN:VEVENT
DTSTART;TZID=America/New_York:20260915T133000
DTEND;TZID=America/New_York:20260915T153000
DTSTAMP:20260424T064649
CREATED:20260202T221306Z
LAST-MODIFIED:20260202T221306Z
UID:10003033-1789479000-1789486200@lli-manassas.org
SUMMARY:F26-XXX Mah Jongg Club
DESCRIPTION:
URL:https://lli-manassas.org/event/f26-xxx-mah-jongg-club/2026-09-15/
LOCATION:Juke Box Diner\, 8637 Sudley Rd.\, Manassas
END:VEVENT
BEGIN:VEVENT
DTSTART;TZID=America/New_York:20260916T133000
DTEND;TZID=America/New_York:20260916T150000
DTSTAMP:20260424T064649
CREATED:20260211T000633Z
LAST-MODIFIED:20260211T000633Z
UID:10003134-1789565400-1789570800@lli-manassas.org
SUMMARY:Fall 26 Kickoff Social
DESCRIPTION:
URL:https://lli-manassas.org/event/fall-26-kickoff-social/
LOCATION:Hylton Performing Arts Center\n10960 George Mason Circle\nManassas\, VA 20110
END:VEVENT
BEGIN:VEVENT
DTSTART;TZID=America/New_York:20260917T133000
DTEND;TZID=America/New_York:20260917T150000
DTSTAMP:20260424T064649
CREATED:20260317T203710Z
LAST-MODIFIED:20260317T203710Z
UID:10003150-1789651800-1789657200@lli-manassas.org
SUMMARY:F26-XX  Join the Line and Dance
DESCRIPTION:
URL:https://lli-manassas.org/event/f26-xx-join-the-line-and-dance/2026-09-17/
LOCATION:Bethel Lutheran Church 8712 Plantation Lane Manassas 20110
END:VEVENT
BEGIN:VEVENT
DTSTART;TZID=America/New_York:20260918T133000
DTEND;TZID=America/New_York:20260918T153000
DTSTAMP:20260424T064649
CREATED:20260202T221611Z
LAST-MODIFIED:20260202T221611Z
UID:10003050-1789738200-1789745400@lli-manassas.org
SUMMARY:F26-XXX Game Day Club
DESCRIPTION:
URL:https://lli-manassas.org/event/f26-xxx-game-day-club/2026-09-18/
LOCATION:Bethel Lutheran Church\, 8712 Plantation Lane Manassas 20110
END:VEVENT
BEGIN:VEVENT
DTSTART;TZID=America/New_York:20260921T103000
DTEND;TZID=America/New_York:20260921T120000
DTSTAMP:20260424T064649
CREATED:20260227T185404Z
LAST-MODIFIED:20260227T185404Z
UID:10003146-1789986600-1789992000@lli-manassas.org
SUMMARY:F26-XXX  American Revolution in Prince William County
DESCRIPTION:
URL:https://lli-manassas.org/event/f26-xxx-american-revolution-in-prince-william-county/
LOCATION:Brentsville Historic Site Union Church 12231 Bristow Rd\, Bristow\, VA 20136
END:VEVENT
BEGIN:VEVENT
DTSTART;TZID=America/New_York:20260922T133000
DTEND;TZID=America/New_York:20260922T153000
DTSTAMP:20260424T064649
CREATED:20260202T221306Z
LAST-MODIFIED:20260202T221306Z
UID:10003034-1790083800-1790091000@lli-manassas.org
SUMMARY:F26-XXX Mah Jongg Club
DESCRIPTION:
URL:https://lli-manassas.org/event/f26-xxx-mah-jongg-club/2026-09-22/
LOCATION:Juke Box Diner\, 8637 Sudley Rd.\, Manassas
END:VEVENT
BEGIN:VEVENT
DTSTART;TZID=America/New_York:20260923T103000
DTEND;TZID=America/New_York:20260923T120000
DTSTAMP:20260424T064649
CREATED:20260211T000835Z
LAST-MODIFIED:20260211T000835Z
UID:10003135-1790159400-1790164800@lli-manassas.org
SUMMARY:F26-XXX Mr. and Mrs. Citizen General
DESCRIPTION:
URL:https://lli-manassas.org/event/f26-xxx-mr-and-mrs-citizen-general/
LOCATION:Hylton Performing Arts Center\, 10960 George Mason Circle\, Manassas\, Va. 20110
END:VEVENT
BEGIN:VEVENT
DTSTART;TZID=America/New_York:20260923T133000
DTEND;TZID=America/New_York:20260923T150000
DTSTAMP:20260424T064649
CREATED:20260211T001014Z
LAST-MODIFIED:20260211T001014Z
UID:10003136-1790170200-1790175600@lli-manassas.org
SUMMARY:F26-XXX The Life of Anne Morrow Lindbergh
DESCRIPTION:
URL:https://lli-manassas.org/event/f26-xxx-the-life-of-anne-morrow-lindbergh/
LOCATION:Hylton Performing Arts Center\n10960 George Mason Circle\nManassas\, VA 20110
END:VEVENT
BEGIN:VEVENT
DTSTART;TZID=America/New_York:20260924T133000
DTEND;TZID=America/New_York:20260924T150000
DTSTAMP:20260424T064649
CREATED:20260416T163452Z
LAST-MODIFIED:20260416T163452Z
UID:10003159-1790256600-1790262000@lli-manassas.org
SUMMARY:F26-XXX  Poetry Basics
DESCRIPTION:
URL:https://lli-manassas.org/event/f26-xxx-poetry-basics/2026-09-24/
LOCATION:Bethel Lutheran Church 8712 Plantation Lane Manassas 20110
END:VEVENT
BEGIN:VEVENT
DTSTART;TZID=America/New_York:20260925T133000
DTEND;TZID=America/New_York:20260925T153000
DTSTAMP:20260424T064649
CREATED:20260202T221611Z
LAST-MODIFIED:20260202T221611Z
UID:10003051-1790343000-1790350200@lli-manassas.org
SUMMARY:F26-XXX Game Day Club
DESCRIPTION:
URL:https://lli-manassas.org/event/f26-xxx-game-day-club/2026-09-25/
LOCATION:Bethel Lutheran Church\, 8712 Plantation Lane Manassas 20110
END:VEVENT
BEGIN:VEVENT
DTSTART;TZID=America/New_York:20260928T100000
DTEND;TZID=America/New_York:20260928T113000
DTSTAMP:20260424T064649
CREATED:20260202T223021Z
LAST-MODIFIED:20260202T223021Z
UID:10003124-1790589600-1790595000@lli-manassas.org
SUMMARY:F26-XXX  Mars 101 at the Hylton Planetarium
DESCRIPTION:
URL:https://lli-manassas.org/event/f26-xxx-mars-101-at-the-hylton-planetarium/
LOCATION:C. D. Hylton High School Planetarium\, 14051 Spriggs Rd\, Woodbridge\, VA 22193\, United States
END:VEVENT
END:VCALENDAR