BEGIN:VCALENDAR
VERSION:2.0
PRODID:-//Lifelong Learning Institute- Manassas - ECPv6.15.20//NONSGML v1.0//EN
CALSCALE:GREGORIAN
METHOD:PUBLISH
X-ORIGINAL-URL:https://lli-manassas.org
X-WR-CALDESC:Events for Lifelong Learning Institute- Manassas
REFRESH-INTERVAL;VALUE=DURATION:PT1H
X-Robots-Tag:noindex
X-PUBLISHED-TTL:PT1H
BEGIN:VTIMEZONE
TZID:America/New_York
BEGIN:DAYLIGHT
TZOFFSETFROM:-0500
TZOFFSETTO:-0400
TZNAME:EDT
DTSTART:20250309T070000
END:DAYLIGHT
BEGIN:STANDARD
TZOFFSETFROM:-0400
TZOFFSETTO:-0500
TZNAME:EST
DTSTART:20251102T060000
END:STANDARD
BEGIN:DAYLIGHT
TZOFFSETFROM:-0500
TZOFFSETTO:-0400
TZNAME:EDT
DTSTART:20260308T070000
END:DAYLIGHT
BEGIN:STANDARD
TZOFFSETFROM:-0400
TZOFFSETTO:-0500
TZNAME:EST
DTSTART:20261101T060000
END:STANDARD
BEGIN:DAYLIGHT
TZOFFSETFROM:-0500
TZOFFSETTO:-0400
TZNAME:EDT
DTSTART:20270314T070000
END:DAYLIGHT
BEGIN:STANDARD
TZOFFSETFROM:-0400
TZOFFSETTO:-0500
TZNAME:EST
DTSTART:20271107T060000
END:STANDARD
END:VTIMEZONE
BEGIN:VEVENT
DTSTART;TZID=America/New_York:20260424T133000
DTEND;TZID=America/New_York:20260424T153000
DTSTAMP:20260419T215613
CREATED:20251214T152330Z
LAST-MODIFIED:20260301T165817Z
UID:10002896-1777037400-1777044600@lli-manassas.org
SUMMARY:S26-0130P\, Judge Jarvis Returns
DESCRIPTION:Judge William Jarvis returns to continue his always popular discussions of topics currently at the forefront of the judicial system. High profile trials\, policing practices\, and other legal issues are always in the news. How should we look at these headlines? What do we need to know to understand them? Judge Jarvis answers these questions for us\, speaking about what he thinks are the important issues\, as well as those which you would like to know more about. \nPresenter: Judge William Jarvis\nHonorable William Jarvis\, Judge of the Circuit Court as of December 1\, 2025\, graduated from Old Dominion University in 1985 with bachelor’s degrees in philosophy and criminal justice. After graduate work at the University of Virginia\, he attended George Mason University School of Law\, graduating in 1991. He served as a prosecutor in Pittsylvania County\, Virginia\, from 1992 to 1998\, and in Marion County\, Florida\, from 1998 to 2002. Upon returning to Virginia in 2002\, he served as an assistant commonwealth’s attorney in Prince William County until 2012\, when he was elected to the bench. Throughout his career\, he has taught search and seizure law as well as other topics to police\, attorneys\, and other judges. \nLLI Coordinator: Craig Johnston
URL:https://lli-manassas.org/event/s26-0130p-judge-jarvis-returns/
LOCATION:Prince William County Courthouse\, 3d floor\, Courtroom 5\, 9311 Lee Avenue\, Manassas\, VA
END:VEVENT
BEGIN:VEVENT
DTSTART;TZID=America/New_York:20260427T133000
DTEND;TZID=America/New_York:20260427T153000
DTSTAMP:20260419T215613
CREATED:20251214T152430Z
LAST-MODIFIED:20260325T005358Z
UID:10003155-1777296600-1777303800@lli-manassas.org
SUMMARY:S26-0309P\, Writing Workshop
DESCRIPTION:A rotation of seasoned writers will lead the weekly sessions. Participants will receive inspiration\, ideas\, examples\, and prompts from various sources and will have in-class time to write and share their writing. Each class will include time to learn from\, write with\, and listen to fellow writers. Our guide for the spring semester will be Writing About Your Life by William Zinsser. \nPresenter: \nLLI Coordinator: Elizabeth Crawford
URL:https://lli-manassas.org/event/s26-0309p-writing-workshop/2026-04-27/
LOCATION:Bethel Lutheran Church\, 8712 Plantation Lane\, Manassas\, VA\, 22192\, United States
END:VEVENT
BEGIN:VEVENT
DTSTART;TZID=America/New_York:20260427T133000
DTEND;TZID=America/New_York:20260427T153000
DTSTAMP:20260419T215613
CREATED:20260325T004435Z
LAST-MODIFIED:20260325T004436Z
UID:10003023-1777296600-1777303800@lli-manassas.org
SUMMARY:S26-0309P\, Writing Workshop
DESCRIPTION:A rotation of seasoned writers will lead the weekly sessions. Participants will receive inspiration\, ideas\, examples\, and prompts from various sources and will have in-class time to write and share their writing. Each class will include time to learn from\, write with\, and listen to fellow writers. Our guide for the spring semester will be Writing About Your Life by William Zinsser. \nPresenter: \nLLI Coordinator: Elizabeth Crawford
URL:https://lli-manassas.org/event/s26-0309p-writing-workshop-4/
LOCATION:Bethel Lutheran Church\, 8712 Plantation Lane\, Manassas\, VA\, 22192\, United States
END:VEVENT
BEGIN:VEVENT
DTSTART;TZID=America/New_York:20260428T133000
DTEND;TZID=America/New_York:20260428T153000
DTSTAMP:20260419T215613
CREATED:20251214T152306Z
LAST-MODIFIED:20251215T012233Z
UID:10002963-1777383000-1777390200@lli-manassas.org
SUMMARY:S26-MHJNG\, Mah Jongg Club
DESCRIPTION:Every Tuesday afternoon\, we meet for fun\, laughter\, and a good time. All levels of experience are welcome\, from beginners through master players. \nPresenter: n/a\nn/a \nLLI Coordinator: Kathy Fowler
URL:https://lli-manassas.org/event/s26-mhjng-mah-jongg-club/2026-04-28/
LOCATION:Juke Box Diner\, 8637 Sudley Rd.\, Manassas
END:VEVENT
BEGIN:VEVENT
DTSTART;TZID=America/New_York:20260429T103000
DTEND;TZID=America/New_York:20260429T120000
DTSTAMP:20260419T215613
CREATED:20251005T191843Z
LAST-MODIFIED:20251005T191843Z
UID:10002854-1777458600-1777464000@lli-manassas.org
SUMMARY:LLI Board Meeting
DESCRIPTION:
URL:https://lli-manassas.org/event/lli-board-meeting-33/2026-04-29/
END:VEVENT
BEGIN:VEVENT
DTSTART;TZID=America/New_York:20260429T133000
DTEND;TZID=America/New_York:20260429T150000
DTSTAMP:20260419T215613
CREATED:20251214T152545Z
LAST-MODIFIED:20251214T152545Z
UID:10002943-1777469400-1777474800@lli-manassas.org
SUMMARY:S26-BOOKS\, Book Club
DESCRIPTION:Books\, both fiction and non-fiction\, are selected by the members. They choose books from a list of suggestions for September through June. Members are encouraged to lead a discussion. The discussions are educational\, interesting\, and fun for all\, including those who may not have finished reading the book. \nPresenter: n/a\nn/a \nLLI Coordinator: Lianetta Ruettgers
URL:https://lli-manassas.org/event/s26-books-book-club-4/
LOCATION:Bethel Lutheran Church\, 8712 Plantation Ln.\, Manassas 20110
END:VEVENT
BEGIN:VEVENT
DTSTART;TZID=America/New_York:20260501T120000
DTEND;TZID=America/New_York:20260501T133000
DTSTAMP:20260419T215613
CREATED:20251214T152546Z
LAST-MODIFIED:20251214T152546Z
UID:10002944-1777636800-1777642200@lli-manassas.org
SUMMARY:S26-LUNCH\, Lunch Club
DESCRIPTION:The Lunch Club invites LLI members to enjoy a meal together and become better acquainted with each other. There is no planned program or topic. Wear your nametag and learn the names of your tablemates. Participants pay for their own lunch.\nFor more information\, contact LLI Coordinator: Mary Foster. \nPresenter: n/a\nn/a \nLLI Coordinator: Mary Foster
URL:https://lli-manassas.org/event/s26-lunch-lunch-club-4/
LOCATION:Juke Box Diner\, 8637 Sudley Road\, Manassas
END:VEVENT
BEGIN:VEVENT
DTSTART;TZID=America/New_York:20260501T133000
DTEND;TZID=America/New_York:20260501T153000
DTSTAMP:20260419T215613
CREATED:20251214T152307Z
LAST-MODIFIED:20251215T012406Z
UID:10002997-1777642200-1777649400@lli-manassas.org
SUMMARY:S26-GAMES\, Game Day Club
DESCRIPTION:Description: If you like to play games\, please join us for a variety of card and board games every Friday afternoon for two hours of fun\, a monthly birthday party\, laughter and a good time. All levels of experience are welcome.\nFor more information\, contact LLI Coordinators: Kathy Hernandez or Julia Martin \nPresenter: n/a\nn/a \nLLI Coordinator: Kathy Hernandez
URL:https://lli-manassas.org/event/s26-games-game-day-club/2026-05-01/
LOCATION:Bethel Lutheran Church\, 8712 Plantation Ln.\, Manassas 20110
END:VEVENT
BEGIN:VEVENT
DTSTART;TZID=America/New_York:20260504T133000
DTEND;TZID=America/New_York:20260504T153000
DTSTAMP:20260419T215613
CREATED:20251214T152430Z
LAST-MODIFIED:20260325T005358Z
UID:10003156-1777901400-1777908600@lli-manassas.org
SUMMARY:S26-0309P\, Writing Workshop
DESCRIPTION:A rotation of seasoned writers will lead the weekly sessions. Participants will receive inspiration\, ideas\, examples\, and prompts from various sources and will have in-class time to write and share their writing. Each class will include time to learn from\, write with\, and listen to fellow writers. Our guide for the spring semester will be Writing About Your Life by William Zinsser. \nPresenter: \nLLI Coordinator: Elizabeth Crawford
URL:https://lli-manassas.org/event/s26-0309p-writing-workshop/2026-05-04/
LOCATION:Bethel Lutheran Church\, 8712 Plantation Lane\, Manassas\, VA\, 22192\, United States
END:VEVENT
BEGIN:VEVENT
DTSTART;TZID=America/New_York:20260505T133000
DTEND;TZID=America/New_York:20260505T153000
DTSTAMP:20260419T215613
CREATED:20251214T152306Z
LAST-MODIFIED:20251215T012233Z
UID:10002964-1777987800-1777995000@lli-manassas.org
SUMMARY:S26-MHJNG\, Mah Jongg Club
DESCRIPTION:Every Tuesday afternoon\, we meet for fun\, laughter\, and a good time. All levels of experience are welcome\, from beginners through master players. \nPresenter: n/a\nn/a \nLLI Coordinator: Kathy Fowler
URL:https://lli-manassas.org/event/s26-mhjng-mah-jongg-club/2026-05-05/
LOCATION:Juke Box Diner\, 8637 Sudley Rd.\, Manassas
END:VEVENT
BEGIN:VEVENT
DTSTART;TZID=America/New_York:20260506T103000
DTEND;TZID=America/New_York:20260506T120000
DTSTAMP:20260419T215613
CREATED:20251214T152546Z
LAST-MODIFIED:20251214T152546Z
UID:10002945-1778063400-1778068800@lli-manassas.org
SUMMARY:S26-0506A\, The Historical Development of Clifton\, VA - A Walking Tour
DESCRIPTION:Join us for Charles Rusnak’s presentation on Historic Clifton\, as he leads us through the town’s evolution from its beginnings as a humble farming village and plantation\, through the turbulence of the Civil War\, and onward to its present role as a peaceful oasis within the metropolitan Washington area.\nOur journey continues with a walking tour of Clifton\, where we will visit several original homes and businesses that are integral to the community’s history and development. Each of these sites will feature a sign detailing key events in its past. The walking route covers approximately one mile and includes frequent stops to allow for immersive learning and reflection. To conclude the experience\, attendees are invited to enjoy lunch at one of Clifton’s diverse local eateries. \nPresenter: Mr. Charles Rusnak\nAfter retiring from the Air Force\, Charles Rusnak and his wife were looking for a quaint\, quiet place to settle down and raise their two growing boys and settled in Clifton\, where he has lived for 40+ years and  enjoyed the old town feel of a place where people can still walk to the post office to pick up their mail and yet enjoy a French pastry in the morning sun. Clifton has often been referred to as “Brigadoon in Virginia\,” also the title of a book describing the essence of life in a small Virginia town.\nThrough the years Charles has served on the Town Council\, the Clifton Betterment Association and\, since its inception in 2018\, as president of the Art Guild Of Clifton. He is also a trustee for the restoration of the historical Primitive Baptist Church\, established by freed black slaves after the Civil War. He is looking forward to sharing his knowledge and the history of the town as the class explores some of the oldest homes and buildings\, telling their story. \nLLI Coordinator: Kelly Espy
URL:https://lli-manassas.org/event/s26-0506a-the-historical-development-of-clifton-va-a-walking-tour/
LOCATION:Clifton VA\, The meeting place will be described in the class Reminder a week before the class.
END:VEVENT
BEGIN:VEVENT
DTSTART;TZID=America/New_York:20260507T133000
DTEND;TZID=America/New_York:20260507T153000
DTSTAMP:20260419T215613
CREATED:20251214T152559Z
LAST-MODIFIED:20251214T152559Z
UID:10002946-1778160600-1778167800@lli-manassas.org
SUMMARY:S26-0115P\, Basic Poetry Class
DESCRIPTION:These five sessions\, facilitated by Alice Mergler and Dottie Ward-Wimmer\, will take us into poetic foundations: the ABCs of what poetry is and how to begin planting your words like seeds that grow into rhythms\, rhymes\, stories\, and wisdom. We will write and then read each other’s work\, sometimes silently\, sometimes aloud\, before discussing it. Often hearing their work read aloud helps writers to understand and enhance their own unique style. Please bring writing materials\, and join us to meet your inner poet. \nPresenter: Alice K. Mergler and Dottie Ward-Wimmer\nAlice Mergler has enjoyed a rewarding teaching career\, 24 years of it spent teaching English\, History\, and Drama in Prince William County. She has also enjoyed a  lifetime of wonderful accomplishments  in her eighty-five  years\, including rearing six sons with her beloved husband. She now enjoys being retired\, advising the Poet Laureate Circle\, marketing The Prince William County Arts Council\, and teaching two LLI classes\, Memoir Writing\, and Poetry. \nAlice also enjoys keeping up with her many grandchildren\, getting 10\,000 steps a day\, and being a Spilled Inker\, a Poetry Open Mic organization for which she just published a second poetry book. \nDottie Ward-Wimmer is a mom\, grandmother\, retired nurse and child therapist\, who writes to celebrate life and the human spirit. At 83\, she still treasures the wisdom of children and silence and the beauty of ordinary things. So far\, she’s had ten poems and one short story published. \nLLI Coordinator: Eileen Roach
URL:https://lli-manassas.org/event/s26-0115p-basic-poetry-class-5/
LOCATION:Bethel Lutheran Church\, 8712 Plantation Lane\, Manassas
END:VEVENT
BEGIN:VEVENT
DTSTART;TZID=America/New_York:20260508T133000
DTEND;TZID=America/New_York:20260508T153000
DTSTAMP:20260419T215613
CREATED:20251214T152307Z
LAST-MODIFIED:20251215T012406Z
UID:10002998-1778247000-1778254200@lli-manassas.org
SUMMARY:S26-GAMES\, Game Day Club
DESCRIPTION:Description: If you like to play games\, please join us for a variety of card and board games every Friday afternoon for two hours of fun\, a monthly birthday party\, laughter and a good time. All levels of experience are welcome.\nFor more information\, contact LLI Coordinators: Kathy Hernandez or Julia Martin \nPresenter: n/a\nn/a \nLLI Coordinator: Kathy Hernandez
URL:https://lli-manassas.org/event/s26-games-game-day-club/2026-05-08/
LOCATION:Bethel Lutheran Church\, 8712 Plantation Ln.\, Manassas 20110
END:VEVENT
BEGIN:VEVENT
DTSTART;TZID=America/New_York:20260512T133000
DTEND;TZID=America/New_York:20260512T153000
DTSTAMP:20260419T215613
CREATED:20251214T152306Z
LAST-MODIFIED:20251215T012233Z
UID:10002965-1778592600-1778599800@lli-manassas.org
SUMMARY:S26-MHJNG\, Mah Jongg Club
DESCRIPTION:Every Tuesday afternoon\, we meet for fun\, laughter\, and a good time. All levels of experience are welcome\, from beginners through master players. \nPresenter: n/a\nn/a \nLLI Coordinator: Kathy Fowler
URL:https://lli-manassas.org/event/s26-mhjng-mah-jongg-club/2026-05-12/
LOCATION:Juke Box Diner\, 8637 Sudley Rd.\, Manassas
END:VEVENT
BEGIN:VEVENT
DTSTART;TZID=America/New_York:20260515T133000
DTEND;TZID=America/New_York:20260515T153000
DTSTAMP:20260419T215613
CREATED:20251214T152307Z
LAST-MODIFIED:20251215T012406Z
UID:10002999-1778851800-1778859000@lli-manassas.org
SUMMARY:S26-GAMES\, Game Day Club
DESCRIPTION:Description: If you like to play games\, please join us for a variety of card and board games every Friday afternoon for two hours of fun\, a monthly birthday party\, laughter and a good time. All levels of experience are welcome.\nFor more information\, contact LLI Coordinators: Kathy Hernandez or Julia Martin \nPresenter: n/a\nn/a \nLLI Coordinator: Kathy Hernandez
URL:https://lli-manassas.org/event/s26-games-game-day-club/2026-05-15/
LOCATION:Bethel Lutheran Church\, 8712 Plantation Ln.\, Manassas 20110
END:VEVENT
BEGIN:VEVENT
DTSTART;TZID=America/New_York:20260519T133000
DTEND;TZID=America/New_York:20260519T153000
DTSTAMP:20260419T215613
CREATED:20251214T152306Z
LAST-MODIFIED:20251215T012233Z
UID:10002966-1779197400-1779204600@lli-manassas.org
SUMMARY:S26-MHJNG\, Mah Jongg Club
DESCRIPTION:Every Tuesday afternoon\, we meet for fun\, laughter\, and a good time. All levels of experience are welcome\, from beginners through master players. \nPresenter: n/a\nn/a \nLLI Coordinator: Kathy Fowler
URL:https://lli-manassas.org/event/s26-mhjng-mah-jongg-club/2026-05-19/
LOCATION:Juke Box Diner\, 8637 Sudley Rd.\, Manassas
END:VEVENT
BEGIN:VEVENT
DTSTART;TZID=America/New_York:20260522T133000
DTEND;TZID=America/New_York:20260522T153000
DTSTAMP:20260419T215613
CREATED:20251214T152307Z
LAST-MODIFIED:20251215T012406Z
UID:10003000-1779456600-1779463800@lli-manassas.org
SUMMARY:S26-GAMES\, Game Day Club
DESCRIPTION:Description: If you like to play games\, please join us for a variety of card and board games every Friday afternoon for two hours of fun\, a monthly birthday party\, laughter and a good time. All levels of experience are welcome.\nFor more information\, contact LLI Coordinators: Kathy Hernandez or Julia Martin \nPresenter: n/a\nn/a \nLLI Coordinator: Kathy Hernandez
URL:https://lli-manassas.org/event/s26-games-game-day-club/2026-05-22/
LOCATION:Bethel Lutheran Church\, 8712 Plantation Ln.\, Manassas 20110
END:VEVENT
BEGIN:VEVENT
DTSTART;TZID=America/New_York:20260526T133000
DTEND;TZID=America/New_York:20260526T153000
DTSTAMP:20260419T215613
CREATED:20251214T152306Z
LAST-MODIFIED:20251215T012233Z
UID:10002967-1779802200-1779809400@lli-manassas.org
SUMMARY:S26-MHJNG\, Mah Jongg Club
DESCRIPTION:Every Tuesday afternoon\, we meet for fun\, laughter\, and a good time. All levels of experience are welcome\, from beginners through master players. \nPresenter: n/a\nn/a \nLLI Coordinator: Kathy Fowler
URL:https://lli-manassas.org/event/s26-mhjng-mah-jongg-club/2026-05-26/
LOCATION:Juke Box Diner\, 8637 Sudley Rd.\, Manassas
END:VEVENT
BEGIN:VEVENT
DTSTART;TZID=America/New_York:20260527T103000
DTEND;TZID=America/New_York:20260527T120000
DTSTAMP:20260419T215613
CREATED:20251005T191843Z
LAST-MODIFIED:20251005T191843Z
UID:10002855-1779877800-1779883200@lli-manassas.org
SUMMARY:LLI Board Meeting
DESCRIPTION:
URL:https://lli-manassas.org/event/lli-board-meeting-33/2026-05-27/
END:VEVENT
BEGIN:VEVENT
DTSTART;TZID=America/New_York:20260527T133000
DTEND;TZID=America/New_York:20260527T150000
DTSTAMP:20260419T215613
CREATED:20251214T152600Z
LAST-MODIFIED:20251214T152600Z
UID:10002947-1779888600-1779894000@lli-manassas.org
SUMMARY:S26-BOOKS\, Book Club
DESCRIPTION:Books\, both fiction and non-fiction\, are selected by the members. They choose books from a list of suggestions for September through June. Members are encouraged to lead a discussion. The discussions are educational\, interesting\, and fun for all\, including those who may not have finished reading the book. \nPresenter: n/a\nn/a \nLLI Coordinator: Lianetta Ruettgers
URL:https://lli-manassas.org/event/s26-books-book-club-5/
LOCATION:Bethel Lutheran Church\, 8712 Plantation Ln.\, Manassas 20110
END:VEVENT
BEGIN:VEVENT
DTSTART;TZID=America/New_York:20260529T133000
DTEND;TZID=America/New_York:20260529T153000
DTSTAMP:20260419T215613
CREATED:20251214T152307Z
LAST-MODIFIED:20251215T012406Z
UID:10003001-1780061400-1780068600@lli-manassas.org
SUMMARY:S26-GAMES\, Game Day Club
DESCRIPTION:Description: If you like to play games\, please join us for a variety of card and board games every Friday afternoon for two hours of fun\, a monthly birthday party\, laughter and a good time. All levels of experience are welcome.\nFor more information\, contact LLI Coordinators: Kathy Hernandez or Julia Martin \nPresenter: n/a\nn/a \nLLI Coordinator: Kathy Hernandez
URL:https://lli-manassas.org/event/s26-games-game-day-club/2026-05-29/
LOCATION:Bethel Lutheran Church\, 8712 Plantation Ln.\, Manassas 20110
END:VEVENT
BEGIN:VEVENT
DTSTART;TZID=America/New_York:20260602T133000
DTEND;TZID=America/New_York:20260602T153000
DTSTAMP:20260419T215613
CREATED:20251214T152306Z
LAST-MODIFIED:20251215T012233Z
UID:10002968-1780407000-1780414200@lli-manassas.org
SUMMARY:S26-MHJNG\, Mah Jongg Club
DESCRIPTION:Every Tuesday afternoon\, we meet for fun\, laughter\, and a good time. All levels of experience are welcome\, from beginners through master players. \nPresenter: n/a\nn/a \nLLI Coordinator: Kathy Fowler
URL:https://lli-manassas.org/event/s26-mhjng-mah-jongg-club/2026-06-02/
LOCATION:Juke Box Diner\, 8637 Sudley Rd.\, Manassas
END:VEVENT
BEGIN:VEVENT
DTSTART;TZID=America/New_York:20260603T083000
DTEND;TZID=America/New_York:20260603T180000
DTSTAMP:20260419T215613
CREATED:20251214T152600Z
LAST-MODIFIED:20251214T152600Z
UID:10002948-1780475400-1780509600@lli-manassas.org
SUMMARY:S26-0603A\, Crab Fest & Cruise
DESCRIPTION:Get ready for a day full of fun\, flavor\, and adventure! Climb aboard our comfy bus in Manassas and head out to Hurlock\, MD\, where an authentic 80-foot\, turn-of-the-century style paddle wheeler awaits.\nOnce on board\, you’ll enjoy three unforgettable hours cruising the beautiful Choptank River while dining on an all-you-can-eat crab feast!  The menu is loaded with pick-your-own crabs\, Maryland crab soup\, fried chicken\, clam strips\, corn on the cob\, coleslaw\, and a sweet finish of assorted cheesecakes. Non-alcoholic beverages are included\, and for those who’d like a little extra cheer\, a cash bar is available.\nWe’ll set off from Manassas at 8:30 a.m. and return around 5:30 p.m. It’s the perfect day trip filled with sights\, flavors\, and memories you won’t forget! \nNOTE 1: The bus and the boat have restrooms.\nNOTE 2: The cost includes round-trip transportation\, the gratuity on the boat and\, of course\, the meal. It does not include the driver’s gratuity.\nNOTE 3: On the bus\, we will pass around an envelope for gratuities for the bus driver\, suggested at $3 to $7 per person.\nNOTE 4: Participants will need to climb one set of stairs to the 2nd deck of the boat.\nNOTE 5: Everyone taking this trip must fill out the Trip Acknowledgement\, Release & Waiver form by clicking on: https://lli-manassas.org/trip-acknowledgement-release-waiver.\nNOTE 6: The last day to sign up is Friday April 24th\, and the last day to cancel an existing reservation for a refund is Monday April 20th.\nNOTE 7:  On Tuesday March 24th\, if there are remaining seats on the bus\, the trip will be opened to non-member guests. \n   \nPresenter: N/A\nN/A \nLLI Coordinator: David Pace
URL:https://lli-manassas.org/event/s26-0603a-crab-fest-cruise/
LOCATION:In Manassas near the Walmart located at 9401 Liberia Avenue. We load in the parking lot on your right close to WaWa.
END:VEVENT
BEGIN:VEVENT
DTSTART;TZID=America/New_York:20260605T133000
DTEND;TZID=America/New_York:20260605T153000
DTSTAMP:20260419T215613
CREATED:20251214T152307Z
LAST-MODIFIED:20251215T012406Z
UID:10003002-1780666200-1780673400@lli-manassas.org
SUMMARY:S26-GAMES\, Game Day Club
DESCRIPTION:Description: If you like to play games\, please join us for a variety of card and board games every Friday afternoon for two hours of fun\, a monthly birthday party\, laughter and a good time. All levels of experience are welcome.\nFor more information\, contact LLI Coordinators: Kathy Hernandez or Julia Martin \nPresenter: n/a\nn/a \nLLI Coordinator: Kathy Hernandez
URL:https://lli-manassas.org/event/s26-games-game-day-club/2026-06-05/
LOCATION:Bethel Lutheran Church\, 8712 Plantation Ln.\, Manassas 20110
END:VEVENT
BEGIN:VEVENT
DTSTART;TZID=America/New_York:20260609T133000
DTEND;TZID=America/New_York:20260609T153000
DTSTAMP:20260419T215613
CREATED:20251214T152306Z
LAST-MODIFIED:20251215T012233Z
UID:10002969-1781011800-1781019000@lli-manassas.org
SUMMARY:S26-MHJNG\, Mah Jongg Club
DESCRIPTION:Every Tuesday afternoon\, we meet for fun\, laughter\, and a good time. All levels of experience are welcome\, from beginners through master players. \nPresenter: n/a\nn/a \nLLI Coordinator: Kathy Fowler
URL:https://lli-manassas.org/event/s26-mhjng-mah-jongg-club/2026-06-09/
LOCATION:Juke Box Diner\, 8637 Sudley Rd.\, Manassas
END:VEVENT
BEGIN:VEVENT
DTSTART;TZID=America/New_York:20260612T133000
DTEND;TZID=America/New_York:20260612T153000
DTSTAMP:20260419T215613
CREATED:20251214T152307Z
LAST-MODIFIED:20251215T012406Z
UID:10003003-1781271000-1781278200@lli-manassas.org
SUMMARY:S26-GAMES\, Game Day Club
DESCRIPTION:Description: If you like to play games\, please join us for a variety of card and board games every Friday afternoon for two hours of fun\, a monthly birthday party\, laughter and a good time. All levels of experience are welcome.\nFor more information\, contact LLI Coordinators: Kathy Hernandez or Julia Martin \nPresenter: n/a\nn/a \nLLI Coordinator: Kathy Hernandez
URL:https://lli-manassas.org/event/s26-games-game-day-club/2026-06-12/
LOCATION:Bethel Lutheran Church\, 8712 Plantation Ln.\, Manassas 20110
END:VEVENT
BEGIN:VEVENT
DTSTART;TZID=America/New_York:20260616T133000
DTEND;TZID=America/New_York:20260616T153000
DTSTAMP:20260419T215613
CREATED:20251214T152306Z
LAST-MODIFIED:20251215T012233Z
UID:10002970-1781616600-1781623800@lli-manassas.org
SUMMARY:S26-MHJNG\, Mah Jongg Club
DESCRIPTION:Every Tuesday afternoon\, we meet for fun\, laughter\, and a good time. All levels of experience are welcome\, from beginners through master players. \nPresenter: n/a\nn/a \nLLI Coordinator: Kathy Fowler
URL:https://lli-manassas.org/event/s26-mhjng-mah-jongg-club/2026-06-16/
LOCATION:Juke Box Diner\, 8637 Sudley Rd.\, Manassas
END:VEVENT
BEGIN:VEVENT
DTSTART;TZID=America/New_York:20260619T133000
DTEND;TZID=America/New_York:20260619T153000
DTSTAMP:20260419T215613
CREATED:20251214T152307Z
LAST-MODIFIED:20251215T012406Z
UID:10003004-1781875800-1781883000@lli-manassas.org
SUMMARY:S26-GAMES\, Game Day Club
DESCRIPTION:Description: If you like to play games\, please join us for a variety of card and board games every Friday afternoon for two hours of fun\, a monthly birthday party\, laughter and a good time. All levels of experience are welcome.\nFor more information\, contact LLI Coordinators: Kathy Hernandez or Julia Martin \nPresenter: n/a\nn/a \nLLI Coordinator: Kathy Hernandez
URL:https://lli-manassas.org/event/s26-games-game-day-club/2026-06-19/
LOCATION:Bethel Lutheran Church\, 8712 Plantation Ln.\, Manassas 20110
END:VEVENT
BEGIN:VEVENT
DTSTART;TZID=America/New_York:20260623T133000
DTEND;TZID=America/New_York:20260623T153000
DTSTAMP:20260419T215613
CREATED:20251214T152306Z
LAST-MODIFIED:20251215T012233Z
UID:10002971-1782221400-1782228600@lli-manassas.org
SUMMARY:S26-MHJNG\, Mah Jongg Club
DESCRIPTION:Every Tuesday afternoon\, we meet for fun\, laughter\, and a good time. All levels of experience are welcome\, from beginners through master players. \nPresenter: n/a\nn/a \nLLI Coordinator: Kathy Fowler
URL:https://lli-manassas.org/event/s26-mhjng-mah-jongg-club/2026-06-23/
LOCATION:Juke Box Diner\, 8637 Sudley Rd.\, Manassas
END:VEVENT
BEGIN:VEVENT
DTSTART;TZID=America/New_York:20260624T103000
DTEND;TZID=America/New_York:20260624T120000
DTSTAMP:20260419T215613
CREATED:20251005T191843Z
LAST-MODIFIED:20251005T191843Z
UID:10002856-1782297000-1782302400@lli-manassas.org
SUMMARY:LLI Board Meeting
DESCRIPTION:
URL:https://lli-manassas.org/event/lli-board-meeting-33/2026-06-24/
END:VEVENT
END:VCALENDAR