BEGIN:VCALENDAR
VERSION:2.0
PRODID:-//Lifelong Learning Institute- Manassas - ECPv6.15.20//NONSGML v1.0//EN
CALSCALE:GREGORIAN
METHOD:PUBLISH
X-ORIGINAL-URL:https://lli-manassas.org
X-WR-CALDESC:Events for Lifelong Learning Institute- Manassas
REFRESH-INTERVAL;VALUE=DURATION:PT1H
X-Robots-Tag:noindex
X-PUBLISHED-TTL:PT1H
BEGIN:VTIMEZONE
TZID:America/New_York
BEGIN:DAYLIGHT
TZOFFSETFROM:-0500
TZOFFSETTO:-0400
TZNAME:EDT
DTSTART:20250309T070000
END:DAYLIGHT
BEGIN:STANDARD
TZOFFSETFROM:-0400
TZOFFSETTO:-0500
TZNAME:EST
DTSTART:20251102T060000
END:STANDARD
BEGIN:DAYLIGHT
TZOFFSETFROM:-0500
TZOFFSETTO:-0400
TZNAME:EDT
DTSTART:20260308T070000
END:DAYLIGHT
BEGIN:STANDARD
TZOFFSETFROM:-0400
TZOFFSETTO:-0500
TZNAME:EST
DTSTART:20261101T060000
END:STANDARD
BEGIN:DAYLIGHT
TZOFFSETFROM:-0500
TZOFFSETTO:-0400
TZNAME:EDT
DTSTART:20270314T070000
END:DAYLIGHT
BEGIN:STANDARD
TZOFFSETFROM:-0400
TZOFFSETTO:-0500
TZNAME:EST
DTSTART:20271107T060000
END:STANDARD
END:VTIMEZONE
BEGIN:VEVENT
DTSTART;TZID=America/New_York:20260414T133000
DTEND;TZID=America/New_York:20260414T153000
DTSTAMP:20260419T133639
CREATED:20251214T152306Z
LAST-MODIFIED:20251215T012233Z
UID:10002961-1776173400-1776180600@lli-manassas.org
SUMMARY:S26-MHJNG\, Mah Jongg Club
DESCRIPTION:Every Tuesday afternoon\, we meet for fun\, laughter\, and a good time. All levels of experience are welcome\, from beginners through master players. \nPresenter: n/a\nn/a \nLLI Coordinator: Kathy Fowler
URL:https://lli-manassas.org/event/s26-mhjng-mah-jongg-club/2026-04-14/
LOCATION:Juke Box Diner\, 8637 Sudley Rd.\, Manassas
END:VEVENT
END:VCALENDAR