BEGIN:VCALENDAR
VERSION:2.0
PRODID:-//Lifelong Learning Institute- Manassas - ECPv6.15.20//NONSGML v1.0//EN
CALSCALE:GREGORIAN
METHOD:PUBLISH
X-ORIGINAL-URL:https://lli-manassas.org
X-WR-CALDESC:Events for Lifelong Learning Institute- Manassas
REFRESH-INTERVAL;VALUE=DURATION:PT1H
X-Robots-Tag:noindex
X-PUBLISHED-TTL:PT1H
BEGIN:VTIMEZONE
TZID:America/New_York
BEGIN:DAYLIGHT
TZOFFSETFROM:-0500
TZOFFSETTO:-0400
TZNAME:EDT
DTSTART:20250309T070000
END:DAYLIGHT
BEGIN:STANDARD
TZOFFSETFROM:-0400
TZOFFSETTO:-0500
TZNAME:EST
DTSTART:20251102T060000
END:STANDARD
BEGIN:DAYLIGHT
TZOFFSETFROM:-0500
TZOFFSETTO:-0400
TZNAME:EDT
DTSTART:20260308T070000
END:DAYLIGHT
BEGIN:STANDARD
TZOFFSETFROM:-0400
TZOFFSETTO:-0500
TZNAME:EST
DTSTART:20261101T060000
END:STANDARD
BEGIN:DAYLIGHT
TZOFFSETFROM:-0500
TZOFFSETTO:-0400
TZNAME:EDT
DTSTART:20270314T070000
END:DAYLIGHT
BEGIN:STANDARD
TZOFFSETFROM:-0400
TZOFFSETTO:-0500
TZNAME:EST
DTSTART:20271107T060000
END:STANDARD
END:VTIMEZONE
BEGIN:VEVENT
DTSTART;TZID=America/New_York:20260413T103000
DTEND;TZID=America/New_York:20260413T120000
DTSTAMP:20260419T133458
CREATED:20251214T152529Z
LAST-MODIFIED:20251214T152529Z
UID:10002936-1776076200-1776081600@lli-manassas.org
SUMMARY:S26-0330A\, The Search For The Smallest Thing\, Part 2:
DESCRIPTION:For thousands of years\, people have wondered what the Universe is made of and if there is a “smallest thing” from which everything else is made.  Today\, we call this area of science “Particle Physics.” \nIn the late 19th and 20th centuries\, research led to major new understandings of the way atoms work.  In the process\, hundreds of new subatomic particles were found.  But the way in which these particles behave is often very strange.   \nThis course is the story of these discoveries and understandings\, which led to the development of quantum physics and the standard model of particle physics.  We’ll meet lots of interesting people and explore their experiments and see how the current understanding of what the smallest thing is began to develop. \nPresenter: Mark Dodge\nMark Dodge received his bachelor’s degree in physics from the University of California Berkeley and earned his master’s degree in engineering physics from the University of Virginia. He worked as an engineering scientist at IBM and then became a high school physics teacher\, teaching for 24 years. He has been educating LLI members on various scientific subjects for the past six years. \nLLI Coordinator: Jo Anne Renton
URL:https://lli-manassas.org/event/s26-0330a-the-search-for-the-smallest-thing-part-2-3/
LOCATION:Bethel Lutheran Church\, 8712 Plantation Ln.\, Manassas 20110
END:VEVENT
BEGIN:VEVENT
DTSTART;TZID=America/New_York:20260413T133000
DTEND;TZID=America/New_York:20260413T153000
DTSTAMP:20260419T133458
CREATED:20251214T152430Z
LAST-MODIFIED:20260325T005358Z
UID:10003021-1776087000-1776094200@lli-manassas.org
SUMMARY:S26-0309P\, Writing Workshop
DESCRIPTION:A rotation of seasoned writers will lead the weekly sessions. Participants will receive inspiration\, ideas\, examples\, and prompts from various sources and will have in-class time to write and share their writing. Each class will include time to learn from\, write with\, and listen to fellow writers. Our guide for the spring semester will be Writing About Your Life by William Zinsser. \nPresenter: \nLLI Coordinator: Elizabeth Crawford
URL:https://lli-manassas.org/event/s26-0309p-writing-workshop/2026-04-13/
LOCATION:Bethel Lutheran Church\, 8712 Plantation Lane\, Manassas\, VA\, 22192\, United States
END:VEVENT
END:VCALENDAR